BEGIN:VCALENDAR
VERSION:2.0
PRODID:-//Fayette Resource Network - ECPv6.15.17//NONSGML v1.0//EN
CALSCALE:GREGORIAN
METHOD:PUBLISH
X-ORIGINAL-URL:https://fayettefrn.com
X-WR-CALDESC:Events for Fayette Resource Network
REFRESH-INTERVAL;VALUE=DURATION:PT1H
X-Robots-Tag:noindex
X-PUBLISHED-TTL:PT1H
BEGIN:VTIMEZONE
TZID:America/New_York
BEGIN:DAYLIGHT
TZOFFSETFROM:-0500
TZOFFSETTO:-0400
TZNAME:EDT
DTSTART:20230312T070000
END:DAYLIGHT
BEGIN:STANDARD
TZOFFSETFROM:-0400
TZOFFSETTO:-0500
TZNAME:EST
DTSTART:20231105T060000
END:STANDARD
BEGIN:DAYLIGHT
TZOFFSETFROM:-0500
TZOFFSETTO:-0400
TZNAME:EDT
DTSTART:20240310T070000
END:DAYLIGHT
BEGIN:STANDARD
TZOFFSETFROM:-0400
TZOFFSETTO:-0500
TZNAME:EST
DTSTART:20241103T060000
END:STANDARD
BEGIN:DAYLIGHT
TZOFFSETFROM:-0500
TZOFFSETTO:-0400
TZNAME:EDT
DTSTART:20250309T070000
END:DAYLIGHT
BEGIN:STANDARD
TZOFFSETFROM:-0400
TZOFFSETTO:-0500
TZNAME:EST
DTSTART:20251102T060000
END:STANDARD
END:VTIMEZONE
BEGIN:VEVENT
DTSTART;TZID=America/New_York:20240827T120000
DTEND;TZID=America/New_York:20240827T130000
DTSTAMP:20260419T091248
CREATED:20240109T190534Z
LAST-MODIFIED:20240109T190534Z
UID:4850-1724760000-1724763600@fayettefrn.com
SUMMARY:August Fayette Prevention Coalition Monthly Meeting
DESCRIPTION:We are meeting “in-person.” We’d love to meet with you! \nThe meeting will be held on Tuesday\, August 27\, 2024 at 12:00 pm at the New River Health- Robinson Annex at 61 Sutphin Lane\, Scarbro\, WV 25917. Lunch will be provided. Please email carristrunk@hotmail.com to let us know you are coming\, so we can ensure that we have enough food and chairs for everyone. \nWe look forward to catching up with all of you to find out what you are working on and see ways we can collaborate. \nIf you have any questions or have things you would like to add to the agenda\, please email carristrunk@hotmail.com
URL:https://fayettefrn.com/event/august-fayette-prevention-coalition-monthly-meeting/
LOCATION:New River Health Scarbro\, WV\, 61 Sutphin Lane\, Scarbro\, WV\, 25917\, United States
CATEGORIES:FPC Meetings
END:VEVENT
BEGIN:VEVENT
DTSTART;TZID=America/New_York:20240829T120000
DTEND;TZID=America/New_York:20240829T133000
DTSTAMP:20260419T091248
CREATED:20240702T175347Z
LAST-MODIFIED:20240702T175347Z
UID:5150-1724932800-1724938200@fayettefrn.com
SUMMARY:August FRN Community Meeting
DESCRIPTION:Join us for our monthly community meetings! All are welcome\, our meetings are generally scheduled for the 4th Thursday of the month. \nOur meeting will be held at the Fayette County DoHS office (1400 Virginia Street\, Oak Hill WV 25901). Our presenter for August is Ellie O’Keefe with Save the Children Action Network (SCAN). Lunch is provided. \nIf you are interested in presenting at a FRN meeting\, please contact Diane Callison at fayettefrn@gmail.com
URL:https://fayettefrn.com/event/august-frn-community-meeting-2/
LOCATION:DoHS\, 1400 Virginia Street\, Oak Hill\, WV\, 25901\, United States
CATEGORIES:FRN Meetings
END:VEVENT
END:VCALENDAR