BEGIN:VCALENDAR
VERSION:2.0
PRODID:-//Fayette Resource Network - ECPv6.15.17//NONSGML v1.0//EN
CALSCALE:GREGORIAN
METHOD:PUBLISH
X-ORIGINAL-URL:https://fayettefrn.com
X-WR-CALDESC:Events for Fayette Resource Network
REFRESH-INTERVAL;VALUE=DURATION:PT1H
X-Robots-Tag:noindex
X-PUBLISHED-TTL:PT1H
BEGIN:VTIMEZONE
TZID:America/New_York
BEGIN:DAYLIGHT
TZOFFSETFROM:-0500
TZOFFSETTO:-0400
TZNAME:EDT
DTSTART:20220313T070000
END:DAYLIGHT
BEGIN:STANDARD
TZOFFSETFROM:-0400
TZOFFSETTO:-0500
TZNAME:EST
DTSTART:20221106T060000
END:STANDARD
BEGIN:DAYLIGHT
TZOFFSETFROM:-0500
TZOFFSETTO:-0400
TZNAME:EDT
DTSTART:20230312T070000
END:DAYLIGHT
BEGIN:STANDARD
TZOFFSETFROM:-0400
TZOFFSETTO:-0500
TZNAME:EST
DTSTART:20231105T060000
END:STANDARD
BEGIN:DAYLIGHT
TZOFFSETFROM:-0500
TZOFFSETTO:-0400
TZNAME:EDT
DTSTART:20240310T070000
END:DAYLIGHT
BEGIN:STANDARD
TZOFFSETFROM:-0400
TZOFFSETTO:-0500
TZNAME:EST
DTSTART:20241103T060000
END:STANDARD
END:VTIMEZONE
BEGIN:VEVENT
DTSTART;TZID=America/New_York:20231214T120000
DTEND;TZID=America/New_York:20231214T133000
DTSTAMP:20260420T123253
CREATED:20230802T170712Z
LAST-MODIFIED:20230802T170712Z
UID:4650-1702555200-1702560600@fayettefrn.com
SUMMARY:December FRN Community Meeting
DESCRIPTION:Join us for our monthly meetings! Meetings are generally scheduled for the 4th Thursday of the month. \nOur presenter for December is Everyone! We share success stories from the year and enjoy a Holiday Potluck. \nIf you are interested in presenting at a FRN meeting\, please contact Diane Callison at fayettefrn@gmail.com \nThis meeting will be in person at the Fayette County DHHR office. Lunch is provided.
URL:https://fayettefrn.com/event/december-frn-community-meeting/
LOCATION:DHHR\, 1400 Virginia St\, Oak Hill\, WV\, 25901\, United States
CATEGORIES:FRN Meetings
END:VEVENT
END:VCALENDAR