BEGIN:VCALENDAR
VERSION:2.0
PRODID:-//Fayette Resource Network - ECPv6.15.17//NONSGML v1.0//EN
CALSCALE:GREGORIAN
METHOD:PUBLISH
X-ORIGINAL-URL:https://fayettefrn.com
X-WR-CALDESC:Events for Fayette Resource Network
REFRESH-INTERVAL;VALUE=DURATION:PT1H
X-Robots-Tag:noindex
X-PUBLISHED-TTL:PT1H
BEGIN:VTIMEZONE
TZID:America/New_York
BEGIN:DAYLIGHT
TZOFFSETFROM:-0500
TZOFFSETTO:-0400
TZNAME:EDT
DTSTART:20200308T070000
END:DAYLIGHT
BEGIN:STANDARD
TZOFFSETFROM:-0400
TZOFFSETTO:-0500
TZNAME:EST
DTSTART:20201101T060000
END:STANDARD
BEGIN:DAYLIGHT
TZOFFSETFROM:-0500
TZOFFSETTO:-0400
TZNAME:EDT
DTSTART:20210314T070000
END:DAYLIGHT
BEGIN:STANDARD
TZOFFSETFROM:-0400
TZOFFSETTO:-0500
TZNAME:EST
DTSTART:20211107T060000
END:STANDARD
BEGIN:DAYLIGHT
TZOFFSETFROM:-0500
TZOFFSETTO:-0400
TZNAME:EDT
DTSTART:20220313T070000
END:DAYLIGHT
BEGIN:STANDARD
TZOFFSETFROM:-0400
TZOFFSETTO:-0500
TZNAME:EST
DTSTART:20221106T060000
END:STANDARD
BEGIN:DAYLIGHT
TZOFFSETFROM:-0500
TZOFFSETTO:-0400
TZNAME:EDT
DTSTART:20230312T070000
END:DAYLIGHT
BEGIN:STANDARD
TZOFFSETFROM:-0400
TZOFFSETTO:-0500
TZNAME:EST
DTSTART:20231105T060000
END:STANDARD
BEGIN:DAYLIGHT
TZOFFSETFROM:-0500
TZOFFSETTO:-0400
TZNAME:EDT
DTSTART:20240310T070000
END:DAYLIGHT
BEGIN:STANDARD
TZOFFSETFROM:-0400
TZOFFSETTO:-0500
TZNAME:EST
DTSTART:20241103T060000
END:STANDARD
END:VTIMEZONE
BEGIN:VEVENT
DTSTART;TZID=America/New_York:20230824T120000
DTEND;TZID=America/New_York:20230824T133000
DTSTAMP:20260424T230323
CREATED:20230802T165957Z
LAST-MODIFIED:20230802T165957Z
UID:4641-1692878400-1692883800@fayettefrn.com
SUMMARY:August FRN Community Meeting
DESCRIPTION:Join us for our monthly meetings! Meetings are generally scheduled for the 4th Thursday of the month. \nOur presenter for August is WIC\, if you are interested in presenting at a FRN meeting\, please contact Diane Callison at fayettefrn@gmail.com \nThis meeting will be in person at the Fayette County DHHR office. Lunch is provided.
URL:https://fayettefrn.com/event/august-frn-community-meeting/
LOCATION:DHHR\, 1400 Virginia St\, Oak Hill\, WV\, 25901\, United States
CATEGORIES:FRN Meetings
END:VEVENT
BEGIN:VEVENT
DTSTART;TZID=America/New_York:20230622T120000
DTEND;TZID=America/New_York:20230622T133000
DTSTAMP:20260424T230323
CREATED:20220729T135005Z
LAST-MODIFIED:20220729T135042Z
UID:3435-1687435200-1687440600@fayettefrn.com
SUMMARY:June Fayette/Raleigh FRN Alliance Meeting
DESCRIPTION:Join us for our monthly meetings! Meetings are generally scheduled for the 4th Thursday of the month. \nOur presenter for June is TBD\, if you are interested in presenting at a FRN meeting\, please contact Diane Callison at fayettefrn@gmail.com \nJune is our quarterly alliance meeting with Raleigh County FRN. This meeting will be in person at the Fayette County DHHR office. Lunch is provided.
URL:https://fayettefrn.com/event/june-fayette-raleigh-frn-alliance-meeting/
LOCATION:DHHR\, 1400 Virginia St\, Oak Hill\, WV\, 25901\, United States
CATEGORIES:FRN Meetings
END:VEVENT
BEGIN:VEVENT
DTSTART;TZID=America/New_York:20230525T120000
DTEND;TZID=America/New_York:20230525T133000
DTSTAMP:20260424T230323
CREATED:20220729T134918Z
LAST-MODIFIED:20220729T134918Z
UID:3433-1685016000-1685021400@fayettefrn.com
SUMMARY:May Fayette FRN Meeting
DESCRIPTION:Join us for our monthly meetings! Meetings are generally scheduled for the 4th Thursday of the month. \nOur presenter for May is TBD\, if you are interested in presenting at a FRN meeting\, please contact Diane Callison at fayettefrn@gmail.com \nThis meeting will be in person at the Fayette County DHHR office. Lunch is provided.
URL:https://fayettefrn.com/event/may-fayette-frn-meeting-2/
LOCATION:DHHR\, 1400 Virginia St\, Oak Hill\, WV\, 25901\, United States
CATEGORIES:FRN Meetings
END:VEVENT
BEGIN:VEVENT
DTSTART;TZID=America/New_York:20230427T120000
DTEND;TZID=America/New_York:20230427T133000
DTSTAMP:20260424T230323
CREATED:20220729T134840Z
LAST-MODIFIED:20220729T134840Z
UID:3431-1682596800-1682602200@fayettefrn.com
SUMMARY:April Fayette FRN Meeting
DESCRIPTION:Join us for our monthly meetings! Meetings are generally scheduled for the 4th Thursday of the month. \nOur presenter for April is TBD\, if you are interested in presenting at a FRN meeting\, please contact Diane Callison at fayettefrn@gmail.com \nThis meeting will be in person at the Fayette County DHHR office. Lunch is provided.
URL:https://fayettefrn.com/event/april-fayette-frn-meeting/
LOCATION:DHHR\, 1400 Virginia St\, Oak Hill\, WV\, 25901\, United States
CATEGORIES:FRN Meetings
END:VEVENT
BEGIN:VEVENT
DTSTART;TZID=America/New_York:20230316T110000
DTEND;TZID=America/New_York:20230316T123000
DTSTAMP:20260424T230323
CREATED:20220729T134651Z
LAST-MODIFIED:20220729T134724Z
UID:3428-1678964400-1678969800@fayettefrn.com
SUMMARY:March Fayette/Raleigh FRN Alliance Meeting
DESCRIPTION:Join us for our monthly meetings! Meetings are generally scheduled for the 4th Thursday of the month. \nMarch is our quarterly alliance meeting with Raleigh County FRN. Presenter and location are TBD and will be announced at a later date.
URL:https://fayettefrn.com/event/march-fayette-raleigh-frn-alliance-meeting/
CATEGORIES:FRN Meetings
END:VEVENT
BEGIN:VEVENT
DTSTART;TZID=America/New_York:20230223T120000
DTEND;TZID=America/New_York:20230223T133000
DTSTAMP:20260424T230323
CREATED:20220729T134555Z
LAST-MODIFIED:20220729T134555Z
UID:3426-1677153600-1677159000@fayettefrn.com
SUMMARY:February Fayette FRN Meeting
DESCRIPTION:Join us for our monthly meetings! Meetings are generally scheduled for the 4th Thursday of the month. \nOur presenter for February is TBD\, if you are interested in presenting at a FRN meeting\, please contact Diane Callison at fayettefrn@gmail.com \nThis meeting will be in person at the Fayette County DHHR office. Lunch is provided.
URL:https://fayettefrn.com/event/february-fayette-frn-meeting/
LOCATION:DHHR\, 1400 Virginia St\, Oak Hill\, WV\, 25901\, United States
CATEGORIES:FRN Meetings
END:VEVENT
BEGIN:VEVENT
DTSTART;TZID=America/New_York:20230126T120000
DTEND;TZID=America/New_York:20230126T133000
DTSTAMP:20260424T230323
CREATED:20220729T134451Z
LAST-MODIFIED:20220729T134451Z
UID:3424-1674734400-1674739800@fayettefrn.com
SUMMARY:January Fayette FRN Meeting
DESCRIPTION:Join us for our monthly meetings! Meetings are generally scheduled for the 4th Thursday of the month. \nOur presenter for January is Lauren Weatherford & JR Davis with Energy Express  \nThis meeting will be in person at the Fayette County DHHR office. Lunch is provided.
URL:https://fayettefrn.com/event/january-fayette-frn-meeting/
LOCATION:DHHR\, 1400 Virginia St\, Oak Hill\, WV\, 25901\, United States
CATEGORIES:FRN Meetings
END:VEVENT
BEGIN:VEVENT
DTSTART;TZID=America/New_York:20221215T120000
DTEND;TZID=America/New_York:20221215T133000
DTSTAMP:20260424T230323
CREATED:20220729T134252Z
LAST-MODIFIED:20220729T134338Z
UID:3421-1671105600-1671111000@fayettefrn.com
SUMMARY:December Fayette/Raleigh FRN Alliance Meeting
DESCRIPTION:Join us for our monthly meetings! Meetings are generally scheduled for the 4th Thursday of the month. \nOur presenter for December is Tina Gray-Russell with Braley & Thompson. \nDecember is our quarterly alliance meeting with Raleigh County FRN. This meeting will be in person at the Fayette County DHHR office. Lunch is provided. We will be meeting a week early due to the holidays.
URL:https://fayettefrn.com/event/december-fayette-raleigh-frn-alliance-meeting/
LOCATION:DHHR\, 1400 Virginia St\, Oak Hill\, WV\, 25901\, United States
CATEGORIES:FRN Meetings
END:VEVENT
BEGIN:VEVENT
DTSTART;TZID=America/New_York:20221117T120000
DTEND;TZID=America/New_York:20221117T133000
DTSTAMP:20260424T230323
CREATED:20220729T134139Z
LAST-MODIFIED:20220729T134139Z
UID:3419-1668686400-1668691800@fayettefrn.com
SUMMARY:November Fayette FRN Meeting
DESCRIPTION:Join us for our monthly meetings! Meetings are generally scheduled for the 4th Thursday of the month. \nOur presenter for November is Christel Moore with Just for Kids\, Child Advocacy Center.  \nThis meeting will be in person at the Fayette County DHHR office. Lunch is provided. We will be meeting a week early due to the holidays.
URL:https://fayettefrn.com/event/november-fayette-frn-meeting/
LOCATION:DHHR\, 1400 Virginia St\, Oak Hill\, WV\, 25901\, United States
CATEGORIES:FRN Meetings
END:VEVENT
BEGIN:VEVENT
DTSTART;TZID=America/New_York:20221027T120000
DTEND;TZID=America/New_York:20221027T133000
DTSTAMP:20260424T230323
CREATED:20220729T133916Z
LAST-MODIFIED:20220729T133916Z
UID:3416-1666872000-1666877400@fayettefrn.com
SUMMARY:October Fayette FRN Meeting
DESCRIPTION:Join us for our monthly meetings! Meetings are generally scheduled for the 4th Thursday of the month. \nOur presenter for October is Princess Young with Aetna Medicare’s Community Outreach Program \nThis meeting will be in person at the Fayette County DHHR office. Lunch is provided.
URL:https://fayettefrn.com/event/october-fayette-frn-meeting/
LOCATION:DHHR\, 1400 Virginia St\, Oak Hill\, WV\, 25901\, United States
CATEGORIES:FRN Meetings
END:VEVENT
BEGIN:VEVENT
DTSTART;TZID=America/New_York:20220915T110000
DTEND;TZID=America/New_York:20220915T120000
DTSTAMP:20260424T230323
CREATED:20220729T133816Z
LAST-MODIFIED:20220729T133816Z
UID:3414-1663239600-1663243200@fayettefrn.com
SUMMARY:September Fayette/Raleigh FRN Alliance Meeting
DESCRIPTION:Join us for our monthly meetings! Meetings are generally scheduled for the 4th Thursday of the month. \nSeptember is our quarterly alliance meeting with Raleigh County FRN. Presenter and location are TBD and will be announced at a later date. \n 
URL:https://fayettefrn.com/event/september-fayette-raleigh-frn-alliance-meeting/
CATEGORIES:FRN Meetings
END:VEVENT
BEGIN:VEVENT
DTSTART;TZID=America/New_York:20220825T120000
DTEND;TZID=America/New_York:20220825T133000
DTSTAMP:20260424T230323
CREATED:20220729T133552Z
LAST-MODIFIED:20220729T133552Z
UID:3412-1661428800-1661434200@fayettefrn.com
SUMMARY:August Fayette FRN Meeting
DESCRIPTION:Join us for our monthly meetings! Meetings are generally scheduled for the 4th Thursday of the month. \nOur presenter for August is Matthew Miller with Hospice of Southern WV. \nThis meeting will be in person at the Fayette County DHHR office. Lunch is provided.
URL:https://fayettefrn.com/event/august-fayette-frn-meeting/
LOCATION:DHHR\, 1400 Virginia St\, Oak Hill\, WV\, 25901\, United States
CATEGORIES:FRN Meetings
END:VEVENT
BEGIN:VEVENT
DTSTART;TZID=America/New_York:20220721T120000
DTEND;TZID=America/New_York:20220721T133000
DTSTAMP:20260424T230323
CREATED:20220729T133334Z
LAST-MODIFIED:20220729T133334Z
UID:3408-1658404800-1658410200@fayettefrn.com
SUMMARY:July FRN Meeting
DESCRIPTION:Join us for our monthly meetings! Meetings are generally scheduled for the 4th Thursday of the month. \nOur presenter for July is Katie Johnson with ICE Collaborative  \nThis meeting will be in person at the Fayette County DHHR office. Lunch is provided.
URL:https://fayettefrn.com/event/july-frn-meeting/
LOCATION:DHHR\, 1400 Virginia St\, Oak Hill\, WV\, 25901\, United States
CATEGORIES:FRN Meetings
END:VEVENT
BEGIN:VEVENT
DTSTART;TZID=America/New_York:20220623T120000
DTEND;TZID=America/New_York:20220623T133000
DTSTAMP:20260424T230323
CREATED:20220422T124233Z
LAST-MODIFIED:20220523T173755Z
UID:3265-1655985600-1655991000@fayettefrn.com
SUMMARY:June Fayette FRN Meeting
DESCRIPTION:Join us for our monthly meetings! Meetings are generally scheduled for the 4th Thursday of the month. \nOur presenter for June is Carri Strunk with New River Health Association and Fayette Prevention Coalition  \nThis meeting will be in person at the Fayette County Board of Education office (111 Fayette Ave\, Fayetteville WV) with a zoom option for those who want to attend virtually \n 
URL:https://fayettefrn.com/event/june-fayette-frn-meeting/
LOCATION:FRN Zoom Meeting
CATEGORIES:FRN Meetings
END:VEVENT
BEGIN:VEVENT
DTSTART;TZID=America/New_York:20220526T120000
DTEND;TZID=America/New_York:20220526T133000
DTSTAMP:20260424T230323
CREATED:20220422T124037Z
LAST-MODIFIED:20220523T173604Z
UID:3263-1653566400-1653571800@fayettefrn.com
SUMMARY:May Fayette FRN Meeting
DESCRIPTION:Join us for our monthly meetings! Meetings are generally scheduled for the 4th Thursday of the month. \nOur presenter for May is Amanda Withrow with Parents as Teachers   \nWe will be meeting in person at the Fayette County Board of Education office (111 Fayette Ave\, Fayetteville WV) with a zoom option for those who want to attend virtually. \n 
URL:https://fayettefrn.com/event/may-fayette-frn-meeting/
LOCATION:FRN Zoom Meeting
CATEGORIES:FRN Meetings
END:VEVENT
BEGIN:VEVENT
DTSTART;TZID=America/New_York:20220421T120000
DTEND;TZID=America/New_York:20220421T133000
DTSTAMP:20260424T230323
CREATED:20220131T150133Z
LAST-MODIFIED:20220131T150133Z
UID:3163-1650542400-1650547800@fayettefrn.com
SUMMARY:April Family Resource Network (FRN) Meeting
DESCRIPTION:Join us for our monthly meetings! Meetings are generally scheduled for the 4th Thursday of the month. \nOur presenter for April is JR Davis with WVU Extension Service  \n 
URL:https://fayettefrn.com/event/april-family-resource-network-frn-meeting/
LOCATION:FRN Zoom Meeting
CATEGORIES:FRN Meetings
END:VEVENT
BEGIN:VEVENT
DTSTART;TZID=America/New_York:20220317T110000
DTEND;TZID=America/New_York:20220317T123000
DTSTAMP:20260424T230323
CREATED:20220131T145939Z
LAST-MODIFIED:20220131T150000Z
UID:3161-1647514800-1647520200@fayettefrn.com
SUMMARY:March Family Resource Network (FRN) Meeting
DESCRIPTION:Join us for our monthly meetings! Meetings are generally scheduled for the 4th Thursday of the month (except for November and December). \nOur presenter for March is TBD \nNote: This is our quarterly alliance meeting with Raleigh County FRN.
URL:https://fayettefrn.com/event/march-family-resource-network-frn-meeting/
CATEGORIES:FRN Meetings
END:VEVENT
BEGIN:VEVENT
DTSTART;TZID=America/New_York:20220224T120000
DTEND;TZID=America/New_York:20220224T133000
DTSTAMP:20260424T230323
CREATED:20220131T145610Z
LAST-MODIFIED:20220131T145711Z
UID:3158-1645704000-1645709400@fayettefrn.com
SUMMARY:February Family Resource Network (FRN) Meeting
DESCRIPTION:Join us for our monthly meetings! Meetings are generally scheduled for the 4th Thursday of the month. \nOur presenter for February is Kristy McKisic with National Youth Advocate Program\, Inc. 
URL:https://fayettefrn.com/event/february-family-resource-network-frn-meeting/
LOCATION:FRN Zoom Meeting
CATEGORIES:FRN Meetings
END:VEVENT
BEGIN:VEVENT
DTSTART;TZID=America/New_York:20220127T120000
DTEND;TZID=America/New_York:20220127T133000
DTSTAMP:20260424T230323
CREATED:20211215T173946Z
LAST-MODIFIED:20211215T174140Z
UID:3063-1643284800-1643290200@fayettefrn.com
SUMMARY:January Family Resource Network (FRN) Meeting
DESCRIPTION:Join us for our monthly meetings! Meetings are generally scheduled for the 4th Thursday of the month. \nOur presenter for January is Carissa McBurney with WV Poison Center
URL:https://fayettefrn.com/event/january-frn-meeting/
LOCATION:FRN Zoom Meeting
CATEGORIES:FRN Meetings
END:VEVENT
BEGIN:VEVENT
DTSTART;TZID=America/New_York:20211216T120000
DTEND;TZID=America/New_York:20211216T133000
DTSTAMP:20260424T230323
CREATED:20210903T150246Z
LAST-MODIFIED:20210908T124343Z
UID:2125-1639656000-1639661400@fayettefrn.com
SUMMARY:December Family Resource Network Meeting
DESCRIPTION:Join us for our monthly meetings! Meetings are generally scheduled for the 4th Thursday of the month (except for November and December). \nOur presenter for December is Shelia Parker with ChildHelp. \nNote: This is our quarterly alliance meeting with Raleigh County FRN.
URL:https://fayettefrn.com/event/frn-december-meeting/
LOCATION:Fayette County Board of Education\, 111 Fayette Avenue\, Fayetteville\, WV\, 25840\, United States
CATEGORIES:FRN Meetings
END:VEVENT
BEGIN:VEVENT
DTSTART;TZID=America/New_York:20211118T120000
DTEND;TZID=America/New_York:20211118T133000
DTSTAMP:20260424T230323
CREATED:20210903T145534Z
LAST-MODIFIED:20210908T124154Z
UID:2123-1637236800-1637242200@fayettefrn.com
SUMMARY:November Family Resource Network Meeting
DESCRIPTION:Join us for our monthly meetings! Meetings are generally scheduled for the 4th Thursday of the month (except for November and December). \nOur presenter for November is Lauren Weatherford with WVU Extension.
URL:https://fayettefrn.com/event/frn-november-meeting/
LOCATION:Fayette County Board of Education\, 111 Fayette Avenue\, Fayetteville\, WV\, 25840\, United States
CATEGORIES:FRN Meetings
END:VEVENT
BEGIN:VEVENT
DTSTART;TZID=America/New_York:20211028T120000
DTEND;TZID=America/New_York:20211028T133000
DTSTAMP:20260424T230323
CREATED:20210903T143138Z
LAST-MODIFIED:20211020T165020Z
UID:2117-1635422400-1635427800@fayettefrn.com
SUMMARY:October Family Resource Network Meeting
DESCRIPTION:Join us for our monthly meetings! Meetings are generally scheduled for the 4th Thursday of the month (except for November and December). \nOur presenter for October is Scott Miller with Just For Kids\, Inc. \nNote: Board Members will remain afterwards for the FRN Board Meeting.
URL:https://fayettefrn.com/event/frn-meeting/
LOCATION:FRN Zoom Meeting
CATEGORIES:FRN Meetings
END:VEVENT
END:VCALENDAR