BEGIN:VCALENDAR
VERSION:2.0
PRODID:-//Fayette Resource Network - ECPv6.15.17//NONSGML v1.0//EN
CALSCALE:GREGORIAN
METHOD:PUBLISH
X-WR-CALNAME:Fayette Resource Network
X-ORIGINAL-URL:https://fayettefrn.com
X-WR-CALDESC:Events for Fayette Resource Network
REFRESH-INTERVAL;VALUE=DURATION:PT1H
X-Robots-Tag:noindex
X-PUBLISHED-TTL:PT1H
BEGIN:VTIMEZONE
TZID:America/New_York
BEGIN:DAYLIGHT
TZOFFSETFROM:-0500
TZOFFSETTO:-0400
TZNAME:EDT
DTSTART:20230312T070000
END:DAYLIGHT
BEGIN:STANDARD
TZOFFSETFROM:-0400
TZOFFSETTO:-0500
TZNAME:EST
DTSTART:20231105T060000
END:STANDARD
BEGIN:DAYLIGHT
TZOFFSETFROM:-0500
TZOFFSETTO:-0400
TZNAME:EDT
DTSTART:20240310T070000
END:DAYLIGHT
BEGIN:STANDARD
TZOFFSETFROM:-0400
TZOFFSETTO:-0500
TZNAME:EST
DTSTART:20241103T060000
END:STANDARD
BEGIN:DAYLIGHT
TZOFFSETFROM:-0500
TZOFFSETTO:-0400
TZNAME:EDT
DTSTART:20250309T070000
END:DAYLIGHT
BEGIN:STANDARD
TZOFFSETFROM:-0400
TZOFFSETTO:-0500
TZNAME:EST
DTSTART:20251102T060000
END:STANDARD
END:VTIMEZONE
BEGIN:VEVENT
DTSTART;TZID=America/New_York:20240725T120000
DTEND;TZID=America/New_York:20240725T133000
DTSTAMP:20260419T210031
CREATED:20240702T175052Z
LAST-MODIFIED:20240702T175052Z
UID:5147-1721908800-1721914200@fayettefrn.com
SUMMARY:July FRN Community Meeting
DESCRIPTION:Join us for our monthly community meetings! All are welcome\, our meetings are generally scheduled for the 4th Thursday of the month. \nOur meeting will be held at the Fayette County DoHS office (1400 Virginia Street\, Oak Hill WV 25901). Our presenter for July is Christy Beaver with Her PLAN. Lunch is provided. \nIf you are interested in presenting at a FRN meeting\, please contact Diane Callison at fayettefrn@gmail.com
URL:https://fayettefrn.com/event/july-frn-community-meeting/
LOCATION:DoHS\, 1400 Virginia Street\, Oak Hill\, WV\, 25901\, United States
CATEGORIES:FRN Meetings
END:VEVENT
END:VCALENDAR